BEGIN:VCALENDAR
VERSION:2.0
PRODID:-//AOMC - ECPv6.15.20//NONSGML v1.0//EN
CALSCALE:GREGORIAN
METHOD:PUBLISH
X-ORIGINAL-URL:https://aomc.ca
X-WR-CALDESC:Events for AOMC
REFRESH-INTERVAL;VALUE=DURATION:PT1H
X-Robots-Tag:noindex
X-PUBLISHED-TTL:PT1H
BEGIN:VTIMEZONE
TZID:America/Toronto
BEGIN:DAYLIGHT
TZOFFSETFROM:-0500
TZOFFSETTO:-0400
TZNAME:EDT
DTSTART:20250309T070000
END:DAYLIGHT
BEGIN:STANDARD
TZOFFSETFROM:-0400
TZOFFSETTO:-0500
TZNAME:EST
DTSTART:20251102T060000
END:STANDARD
BEGIN:DAYLIGHT
TZOFFSETFROM:-0500
TZOFFSETTO:-0400
TZNAME:EDT
DTSTART:20260308T070000
END:DAYLIGHT
BEGIN:STANDARD
TZOFFSETFROM:-0400
TZOFFSETTO:-0500
TZNAME:EST
DTSTART:20261101T060000
END:STANDARD
BEGIN:DAYLIGHT
TZOFFSETFROM:-0500
TZOFFSETTO:-0400
TZNAME:EDT
DTSTART:20270314T070000
END:DAYLIGHT
BEGIN:STANDARD
TZOFFSETFROM:-0400
TZOFFSETTO:-0500
TZNAME:EST
DTSTART:20271107T060000
END:STANDARD
END:VTIMEZONE
BEGIN:VEVENT
DTSTART;TZID=America/Toronto:20260312T200000
DTEND;TZID=America/Toronto:20260312T210000
DTSTAMP:20260425T104543
CREATED:20260218T145252Z
LAST-MODIFIED:20260312T215849Z
UID:721-1773345600-1773349200@aomc.ca
SUMMARY:Webinar Samantha Weaver
DESCRIPTION:$15.00 Register Now →     Samantha aa has been involved with myofunctional sciences since 2009 working in two clinics that specialize in breathing remediation and orofacial myofunctional therapy with children and adults. In addition to being a speech pathologist\, she is the Director of the Academy of Orofacial Myofunctional Therapy (AOMT).    ...  \nMembership Required You must be a member to access this content. View Membership Levels Already a member? Log in here
URL:https://aomc.ca/event/webinar-samantha-weaver/
ATTACH;FMTTYPE=image/png:https://aomc.ca/wp-content/uploads/2026/02/White-Blue-Modern-Online-Business-Webinar-LinkedIn-Post-11.png
END:VEVENT
END:VCALENDAR