BEGIN:VCALENDAR
VERSION:2.0
PRODID:-//AOMC - ECPv6.15.20//NONSGML v1.0//EN
CALSCALE:GREGORIAN
METHOD:PUBLISH
X-WR-CALNAME:AOMC
X-ORIGINAL-URL:https://aomc.ca
X-WR-CALDESC:Events for AOMC
REFRESH-INTERVAL;VALUE=DURATION:PT1H
X-Robots-Tag:noindex
X-PUBLISHED-TTL:PT1H
BEGIN:VTIMEZONE
TZID:America/Toronto
BEGIN:DAYLIGHT
TZOFFSETFROM:-0500
TZOFFSETTO:-0400
TZNAME:EDT
DTSTART:20250309T070000
END:DAYLIGHT
BEGIN:STANDARD
TZOFFSETFROM:-0400
TZOFFSETTO:-0500
TZNAME:EST
DTSTART:20251102T060000
END:STANDARD
BEGIN:DAYLIGHT
TZOFFSETFROM:-0500
TZOFFSETTO:-0400
TZNAME:EDT
DTSTART:20260308T070000
END:DAYLIGHT
BEGIN:STANDARD
TZOFFSETFROM:-0400
TZOFFSETTO:-0500
TZNAME:EST
DTSTART:20261101T060000
END:STANDARD
BEGIN:DAYLIGHT
TZOFFSETFROM:-0500
TZOFFSETTO:-0400
TZNAME:EDT
DTSTART:20270314T070000
END:DAYLIGHT
BEGIN:STANDARD
TZOFFSETFROM:-0400
TZOFFSETTO:-0500
TZNAME:EST
DTSTART:20271107T060000
END:STANDARD
END:VTIMEZONE
BEGIN:VEVENT
DTSTART;TZID=America/Toronto:20260522T083000
DTEND;TZID=America/Toronto:20260522T163000
DTSTAMP:20260425T120844
CREATED:20260218T142832Z
LAST-MODIFIED:20260312T194923Z
UID:719-1779438600-1779467400@aomc.ca
SUMMARY:AOMC Second Annual Meeting
DESCRIPTION:$15.00 Register Now →   Engage in a day of learning and networking with guest speakers & inter-collaborative professionals to enhance knowledge and public health care outcomes in the field...  \nMembership Required You must be a member to access this content. View Membership Levels Already a member? Log in here
URL:https://aomc.ca/event/aomc-second-annual-meeting/
ATTACH;FMTTYPE=image/png:https://aomc.ca/wp-content/uploads/2026/03/AOMC-Second-Annual-Meeting-14.png
END:VEVENT
END:VCALENDAR